BEGIN:VCALENDAR
VERSION:2.0
PRODID:-//ESAMI-trapca - ECPv6.15.20//NONSGML v1.0//EN
CALSCALE:GREGORIAN
METHOD:PUBLISH
X-WR-CALNAME:ESAMI-trapca
X-ORIGINAL-URL:https://www.trapca.org
X-WR-CALDESC:Events for ESAMI-trapca
REFRESH-INTERVAL;VALUE=DURATION:PT1H
X-Robots-Tag:noindex
X-PUBLISHED-TTL:PT1H
BEGIN:VTIMEZONE
TZID:UTC
BEGIN:STANDARD
TZOFFSETFROM:+0000
TZOFFSETTO:+0000
TZNAME:UTC
DTSTART:20230101T000000
END:STANDARD
END:VTIMEZONE
BEGIN:VEVENT
DTSTART;TZID=UTC:20240226T080000
DTEND;TZID=UTC:20261130T170000
DTSTAMP:20260422T111132
CREATED:20240109T054717Z
LAST-MODIFIED:20240109T054717Z
UID:10482-1708934400-1796058000@www.trapca.org
SUMMARY:Master Of International Trade Finance
DESCRIPTION:
URL:https://www.trapca.org/event/master-of-international-trade-finance/
LOCATION:ESAMI-trapca\, ESAMI Road\, Arusha\, Tanzania\, United Republic of
CATEGORIES:Course,Event
ATTACH;FMTTYPE=image/jpeg:https://www.trapca.org/wp-content/uploads/2024/01/MSc-International-Trade-Finance.jpg
ORGANIZER;CN="TRAPCA":MAILTO:info@trpaca.org/admissions@trapca.org
END:VEVENT
BEGIN:VEVENT
DTSTART;TZID=UTC:20250602T080000
DTEND;TZID=UTC:20250602T170000
DTSTAMP:20260422T111132
CREATED:20250326T065849Z
LAST-MODIFIED:20250326T065849Z
UID:11172-1748851200-1748883600@www.trapca.org
SUMMARY:Master of International Trade Finance
DESCRIPTION:
URL:https://www.trapca.org/event/master-of-international-trade-finance-4/
LOCATION:ESAMI-trapca\, ESAMI Road\, Arusha\, Tanzania\, United Republic of
CATEGORIES:Course
ATTACH;FMTTYPE=image/jpeg:https://www.trapca.org/wp-content/uploads/2025/03/Master-of-International-Trade-Finance.jpg
ORGANIZER;CN="ESAMI-trapca":MAILTO:info@trapca.org / admissions@trapca.org / tradefinance@trapca.org
END:VEVENT
BEGIN:VEVENT
DTSTART;TZID=UTC:20250602T080000
DTEND;TZID=UTC:20250613T170000
DTSTAMP:20260422T111132
CREATED:20250512T091840Z
LAST-MODIFIED:20250512T091840Z
UID:11226-1748851200-1749834000@www.trapca.org
SUMMARY:Tools for Trade Policy Analysis
DESCRIPTION:
URL:https://www.trapca.org/event/tools-for-trade-policy-analysis/
LOCATION:Kampala Uganda\, Uganda
CATEGORIES:Course
ATTACH;FMTTYPE=image/jpeg:https://www.trapca.org/wp-content/uploads/2025/05/Tools-for-Trade-Policy-Analysis-web.jpg
ORGANIZER;CN="ESAMI-trapca":MAILTO:info@trapca.org / admissions@trapca.org / tradefinance@trapca.org
END:VEVENT
BEGIN:VEVENT
DTSTART;TZID=UTC:20250609T080000
DTEND;TZID=UTC:20250620T170000
DTSTAMP:20260422T111132
CREATED:20250512T090943Z
LAST-MODIFIED:20250512T090943Z
UID:11220-1749456000-1750438800@www.trapca.org
SUMMARY:Implementing Regional Trade Agreements in Africa
DESCRIPTION:
URL:https://www.trapca.org/event/implementing-regional-trade-agreements-in-africa-3/
LOCATION:Accra\, Accra\, Ghana
CATEGORIES:Course
ATTACH;FMTTYPE=image/jpeg:https://www.trapca.org/wp-content/uploads/2025/05/Implementing-Regional-Trade-Agreements-in-Africa-web.jpg
END:VEVENT
BEGIN:VEVENT
DTSTART;TZID=UTC:20250609T080000
DTEND;TZID=UTC:20250620T170000
DTSTAMP:20260422T111132
CREATED:20250512T091202Z
LAST-MODIFIED:20250512T091202Z
UID:11223-1749456000-1750438800@www.trapca.org
SUMMARY:Rules of Origin Regimes in Intra Africa Trade
DESCRIPTION:
URL:https://www.trapca.org/event/rules-of-origin-regimes-in-intra-africa-trade/
LOCATION:ESAMI-trapca\, ESAMI Road\, Arusha\, Tanzania\, United Republic of
CATEGORIES:Course
ATTACH;FMTTYPE=image/jpeg:https://www.trapca.org/wp-content/uploads/2025/05/Rules-of-Origin-Regimes-in-Intra-Africa-Trade-web.jpg
END:VEVENT
END:VCALENDAR