BEGIN:VCALENDAR
VERSION:2.0
PRODID:-//ESAMI-trapca - ECPv6.15.20//NONSGML v1.0//EN
CALSCALE:GREGORIAN
METHOD:PUBLISH
X-WR-CALNAME:ESAMI-trapca
X-ORIGINAL-URL:https://www.trapca.org
X-WR-CALDESC:Events for ESAMI-trapca
REFRESH-INTERVAL;VALUE=DURATION:PT1H
X-Robots-Tag:noindex
X-PUBLISHED-TTL:PT1H
BEGIN:VTIMEZONE
TZID:UTC
BEGIN:STANDARD
TZOFFSETFROM:+0000
TZOFFSETTO:+0000
TZNAME:UTC
DTSTART:20180101T000000
END:STANDARD
END:VTIMEZONE
BEGIN:VEVENT
DTSTART;TZID=UTC:20191217T130000
DTEND;TZID=UTC:20191217T170000
DTSTAMP:20260422T021233
CREATED:20180816T115533Z
LAST-MODIFIED:20190914T185020Z
UID:5986-1576587600-1576602000@www.trapca.org
SUMMARY:2019 Academic Program
DESCRIPTION:With the support of the Government of Sweden\, trapca business will start off with its core business\, namely\, building capacities of African LDCs and LICs and women from African LMICs. The Center will offer pre-requisite courses that are stepping stone to admission to its flagship MSc. in International Trade Policy and Trade Law. The Centre will subsequently also offer MSc. advanced courses. All the courses will be offered in English and French. Through financial support by the Government of Sweden\, trapca has religiously carried out tracer surveys and numerous evaluations to evaluate impact of its trade and trade related capacity building interventions. These surveys and evaluations univocally attest to the fact that there is need for more courses. They further attest to the fact that through trapca’s alumni the interventional have exerted a great impact on countries. trapca’s Alumni have emerged great change agents for their countries with some representing their countries in trade negotiations as well as at the WTO. To apply for the courses offered this year kindly consult the calendar here.
URL:https://www.trapca.org/event/fintech-key-investment-conference/
LOCATION:TRAPCA\, Esami Road; P.O Box 3030\,\, Arusha\, Arusha\, Tanzania\, United Republic of
ATTACH;FMTTYPE=image/png:https://www.trapca.org/wp-content/uploads/2018/08/Trapca-Ongoing-DSC00571-750x425.png
ORGANIZER;CN="TRAPCA":MAILTO:info@trpaca.org/admissions@trapca.org
END:VEVENT
END:VCALENDAR