BEGIN:VCALENDAR
VERSION:2.0
PRODID:-//ESAMI-trapca - ECPv6.15.20//NONSGML v1.0//EN
CALSCALE:GREGORIAN
METHOD:PUBLISH
X-ORIGINAL-URL:https://www.trapca.org
X-WR-CALDESC:Events for ESAMI-trapca
REFRESH-INTERVAL;VALUE=DURATION:PT1H
X-Robots-Tag:noindex
X-PUBLISHED-TTL:PT1H
BEGIN:VTIMEZONE
TZID:UTC
BEGIN:STANDARD
TZOFFSETFROM:+0000
TZOFFSETTO:+0000
TZNAME:UTC
DTSTART:20250101T000000
END:STANDARD
END:VTIMEZONE
BEGIN:VEVENT
DTSTART;TZID=UTC:20260504T080000
DTEND;TZID=UTC:20260515T170000
DTSTAMP:20260422T023117
CREATED:20260311T130032Z
LAST-MODIFIED:20260311T130032Z
UID:11519-1777881600-1778864400@www.trapca.org
SUMMARY:Practical Trade Finance Solution and Risks
DESCRIPTION:
URL:https://www.trapca.org/event/practical-trade-finance-solution-and-risks/
LOCATION:Dar Es Salaam\, ESAMI Centre\, Dar Es Salaam\, Tanzania\, United Republic of
CATEGORIES:Course
ATTACH;FMTTYPE=image/png:https://www.trapca.org/wp-content/uploads/2026/03/Practical-Trade-Finance-Solution-and-Risks-web.png
ORGANIZER;CN="ESAMI-trapca":MAILTO:info@trapca.org / admissions@trapca.org / tradefinance@trapca.org
END:VEVENT
BEGIN:VEVENT
DTSTART;TZID=UTC:20260504T080000
DTEND;TZID=UTC:20260515T170000
DTSTAMP:20260422T023117
CREATED:20260311T130632Z
LAST-MODIFIED:20260311T130732Z
UID:11522-1777881600-1778864400@www.trapca.org
SUMMARY:Standards and Export Competitiveness
DESCRIPTION:
URL:https://www.trapca.org/event/standards-and-export-competitiveness/
LOCATION:Dubai\, Dubai\, United Arab Emirates
CATEGORIES:Course
ATTACH;FMTTYPE=image/png:https://www.trapca.org/wp-content/uploads/2026/03/Standards-and-Export-Competitiveness-web.png
ORGANIZER;CN="ESAMI-trapca":MAILTO:info@trapca.org / admissions@trapca.org / tradefinance@trapca.org
END:VEVENT
BEGIN:VEVENT
DTSTART;TZID=UTC:20260518T080000
DTEND;TZID=UTC:20260529T170000
DTSTAMP:20260422T023117
CREATED:20260311T131439Z
LAST-MODIFIED:20260311T131439Z
UID:11525-1779091200-1780074000@www.trapca.org
SUMMARY:Critical Aspect of Trade Finance
DESCRIPTION:
URL:https://www.trapca.org/event/critical-aspect-of-trade-finance/
LOCATION:Nairobi\, Nairobi\, Kenya
CATEGORIES:Course
ATTACH;FMTTYPE=image/png:https://www.trapca.org/wp-content/uploads/2026/03/Critical-Aspects-of-Trade-Finance-web.png
ORGANIZER;CN="ESAMI-trapca":MAILTO:info@trapca.org / admissions@trapca.org / tradefinance@trapca.org
END:VEVENT
END:VCALENDAR