BEGIN:VCALENDAR
VERSION:2.0
PRODID:-//ESAMI-trapca - ECPv6.15.20//NONSGML v1.0//EN
CALSCALE:GREGORIAN
METHOD:PUBLISH
X-WR-CALNAME:ESAMI-trapca
X-ORIGINAL-URL:https://www.trapca.org
X-WR-CALDESC:Events for ESAMI-trapca
REFRESH-INTERVAL;VALUE=DURATION:PT1H
X-Robots-Tag:noindex
X-PUBLISHED-TTL:PT1H
BEGIN:VTIMEZONE
TZID:UTC
BEGIN:STANDARD
TZOFFSETFROM:+0000
TZOFFSETTO:+0000
TZNAME:UTC
DTSTART:20190101T000000
END:STANDARD
END:VTIMEZONE
BEGIN:VEVENT
DTSTART;TZID=UTC:20241202T080000
DTEND;TZID=UTC:20241213T170000
DTSTAMP:20260422T023015
CREATED:20241002T053029Z
LAST-MODIFIED:20241002T053029Z
UID:10826-1733126400-1734109200@www.trapca.org
SUMMARY:Digital trade\, E-Commerce and Domestic Regulations
DESCRIPTION:
URL:https://www.trapca.org/event/digital-trade-e-commerce-and-domestic-regulations/
LOCATION:ESAMI-trapca\, ESAMI Road\, Arusha\, Tanzania\, United Republic of
CATEGORIES:Course
ATTACH;FMTTYPE=image/jpeg:https://www.trapca.org/wp-content/uploads/2024/10/Digital-trade-e-commerce-and-domestic-regulations.jpg
ORGANIZER;CN="ESAMI-trapca":MAILTO:info@trapca.org / admissions@trapca.org / tradefinance@trapca.org
END:VEVENT
BEGIN:VEVENT
DTSTART;TZID=UTC:20241130T080000
DTEND;TZID=UTC:20241130T170000
DTSTAMP:20260422T023015
CREATED:20241113T072438Z
LAST-MODIFIED:20241113T085114Z
UID:10942-1732953600-1732986000@www.trapca.org
SUMMARY:2024 Graduation Ceremony
DESCRIPTION:
URL:https://www.trapca.org/event/2024-graduation-ceremony/
LOCATION:ESAMI-trapca\, ESAMI Road\, Arusha\, Tanzania\, United Republic of
CATEGORIES:Event
ATTACH;FMTTYPE=image/jpeg:https://www.trapca.org/wp-content/uploads/2024/11/2024-Graduation2.jpg
ORGANIZER;CN="ESAMI-trapca":MAILTO:info@trapca.org / admissions@trapca.org / tradefinance@trapca.org
END:VEVENT
BEGIN:VEVENT
DTSTART;TZID=UTC:20241104T080000
DTEND;TZID=UTC:20241115T170000
DTSTAMP:20260422T023015
CREATED:20241002T052709Z
LAST-MODIFIED:20241002T052709Z
UID:10822-1730707200-1731690000@www.trapca.org
SUMMARY:Imports and Exports Procedures
DESCRIPTION:
URL:https://www.trapca.org/event/imports-and-exports-procedures/
LOCATION:Mombasa\, Kenya\, Mombasa\, Kenya
CATEGORIES:Course
ATTACH;FMTTYPE=image/jpeg:https://www.trapca.org/wp-content/uploads/2024/10/Imports-and-Exports-procedures.jpg
ORGANIZER;CN="ESAMI-trapca":MAILTO:info@trapca.org / admissions@trapca.org / tradefinance@trapca.org
END:VEVENT
BEGIN:VEVENT
DTSTART;TZID=UTC:20241014T080000
DTEND;TZID=UTC:20241025T170000
DTSTAMP:20260422T023015
CREATED:20240509T113831Z
LAST-MODIFIED:20240509T113831Z
UID:10585-1728892800-1729875600@www.trapca.org
SUMMARY:The Mechanics Of Managing Export Credit Agencies (ECAs)
DESCRIPTION:
URL:https://www.trapca.org/event/the-mechanics-of-managing-export-credit-agencies-ecas/
LOCATION:Arusha\, Arusha\, Tanzania\, United Republic of
CATEGORIES:Course
ATTACH;FMTTYPE=image/jpeg:https://www.trapca.org/wp-content/uploads/2024/05/The-Mechanics-Of-Managing-Export-Credit-Agencies-ECAs-Arusha.jpg
ORGANIZER;CN="TRAPCA":MAILTO:info@trpaca.org/admissions@trapca.org
END:VEVENT
BEGIN:VEVENT
DTSTART;TZID=UTC:20240923T080000
DTEND;TZID=UTC:20241004T170000
DTSTAMP:20260422T023015
CREATED:20240516T142725Z
LAST-MODIFIED:20240516T142725Z
UID:10603-1727078400-1728061200@www.trapca.org
SUMMARY:Critical Aspects Of Trade Finance
DESCRIPTION:
URL:https://www.trapca.org/event/critical-aspects-of-trade-finance-2/
LOCATION:Mombasa\, Mombasa\, Kenya
CATEGORIES:Course
ATTACH;FMTTYPE=image/jpeg:https://www.trapca.org/wp-content/uploads/2024/05/Critical-Aspects-of-Trade-Finance77.jpg
ORGANIZER;CN="ESAMI-trapca":MAILTO:info@trapca.org / admissions@trapca.org / tradefinance@trapca.org
END:VEVENT
BEGIN:VEVENT
DTSTART;TZID=UTC:20240916T140000
DTEND;TZID=UTC:20241025T170000
DTSTAMP:20260422T023015
CREATED:20240718T112658Z
LAST-MODIFIED:20240718T112658Z
UID:10723-1726495200-1729875600@www.trapca.org
SUMMARY:MSc Pre-requisite trade policy and trade law
DESCRIPTION:
URL:https://www.trapca.org/event/msc-pre-requisite-trade-policy-and-trade-law/
LOCATION:E-Learning
CATEGORIES:Course
ATTACH;FMTTYPE=image/jpeg:https://www.trapca.org/wp-content/uploads/2024/07/TRP400-Sept-2024.jpg
ORGANIZER;CN="ESAMI-trapca":MAILTO:info@trapca.org / admissions@trapca.org / tradefinance@trapca.org
END:VEVENT
BEGIN:VEVENT
DTSTART;TZID=UTC:20240805T080000
DTEND;TZID=UTC:20240816T170000
DTSTAMP:20260422T023015
CREATED:20240718T112337Z
LAST-MODIFIED:20240718T112337Z
UID:10720-1722844800-1723827600@www.trapca.org
SUMMARY:Trade and Gender
DESCRIPTION:
URL:https://www.trapca.org/event/trade-and-gender/
LOCATION:E-Learning
CATEGORIES:Course
ATTACH;FMTTYPE=image/jpeg:https://www.trapca.org/wp-content/uploads/2024/07/Trade-and-Gender.jpg
ORGANIZER;CN="ESAMI-trapca":MAILTO:info@trapca.org / admissions@trapca.org / tradefinance@trapca.org
END:VEVENT
BEGIN:VEVENT
DTSTART;TZID=UTC:20240701T080000
DTEND;TZID=UTC:20240705T170000
DTSTAMP:20260422T023015
CREATED:20240527T122744Z
LAST-MODIFIED:20240527T122744Z
UID:10621-1719820800-1720198800@www.trapca.org
SUMMARY:Arbitration and Dispute Settlement for Trade
DESCRIPTION:
URL:https://www.trapca.org/event/arbitration-and-dispute-settlement-for-trade-2/
LOCATION:ESAMI-trapca\, ESAMI Road\, Arusha\, Tanzania\, United Republic of
CATEGORIES:Course
ATTACH;FMTTYPE=image/jpeg:https://www.trapca.org/wp-content/uploads/2024/05/Arbitration-And-Dispute-Settlement-For-Trade2.jpg
ORGANIZER;CN="ESAMI-trapca":MAILTO:info@trapca.org / admissions@trapca.org / tradefinance@trapca.org
END:VEVENT
BEGIN:VEVENT
DTSTART;TZID=UTC:20240624T080000
DTEND;TZID=UTC:20240624T170000
DTSTAMP:20260422T023015
CREATED:20240619T093923Z
LAST-MODIFIED:20240619T093923Z
UID:10701-1719216000-1719248400@www.trapca.org
SUMMARY:Master of International Trade Finance
DESCRIPTION:
URL:https://www.trapca.org/event/master-of-international-trade-finance-2/
LOCATION:E-Learning
CATEGORIES:Course
ATTACH;FMTTYPE=image/jpeg:https://www.trapca.org/wp-content/uploads/2024/06/Master-Of-International-Trade-Finance.jpg
ORGANIZER;CN="ESAMI-trapca":MAILTO:info@trapca.org / admissions@trapca.org / tradefinance@trapca.org
END:VEVENT
BEGIN:VEVENT
DTSTART;TZID=UTC:20240610T140000
DTEND;TZID=UTC:20240705T170000
DTSTAMP:20260422T023015
CREATED:20240423T061030Z
LAST-MODIFIED:20240423T061030Z
UID:10570-1718028000-1720198800@www.trapca.org
SUMMARY:TRP 400: prérequis au Msc en politique commerciale et droit commercial international
DESCRIPTION:
URL:https://www.trapca.org/event/trp-400-prerequis-au-msc-en-politique-commerciale-et-droit-commercial-international/
LOCATION:E-Learning
CATEGORIES:Course
ATTACH;FMTTYPE=image/jpeg:https://www.trapca.org/wp-content/uploads/2024/04/TRP400-10-Jun-5-Jul-All-languages-Franco.jpg
ORGANIZER;CN="ESAMI-trapca":MAILTO:info@trapca.org / admissions@trapca.org / tradefinance@trapca.org
END:VEVENT
BEGIN:VEVENT
DTSTART;TZID=UTC:20240610T140000
DTEND;TZID=UTC:20240705T170000
DTSTAMP:20260422T023015
CREATED:20240405T110534Z
LAST-MODIFIED:20240405T110534Z
UID:10552-1718028000-1720198800@www.trapca.org
SUMMARY:MSc Pre-requisite Trade Policy and Trade Law(eLearning)
DESCRIPTION:
URL:https://www.trapca.org/event/trp400/
LOCATION:E-Learning
CATEGORIES:Course
ATTACH;FMTTYPE=image/jpeg:https://www.trapca.org/wp-content/uploads/2024/04/TRP400-10-Jun-5-Jul.jpg
ORGANIZER;CN="ESAMI-trapca":MAILTO:info@trapca.org / admissions@trapca.org / tradefinance@trapca.org
END:VEVENT
BEGIN:VEVENT
DTSTART;TZID=UTC:20240610T080000
DTEND;TZID=UTC:20240621T170000
DTSTAMP:20260422T023015
CREATED:20240522T124002Z
LAST-MODIFIED:20240522T124002Z
UID:10614-1718006400-1718989200@www.trapca.org
SUMMARY:Implementing Regional Trade Agreements In Africa
DESCRIPTION:
URL:https://www.trapca.org/event/implementing-regional-trade-agreements-in-africa-2/
LOCATION:ESAMI-trapca\, ESAMI Road\, Arusha\, Tanzania\, United Republic of
CATEGORIES:Course
ATTACH;FMTTYPE=image/jpeg:https://www.trapca.org/wp-content/uploads/2024/05/Implementing-Regional-Trade-Agreements-In-Africa-website.jpg
ORGANIZER;CN="ESAMI-trapca":MAILTO:info@trapca.org / admissions@trapca.org / tradefinance@trapca.org
END:VEVENT
BEGIN:VEVENT
DTSTART;TZID=UTC:20240520T080000
DTEND;TZID=UTC:20240531T170000
DTSTAMP:20260422T023015
CREATED:20240516T142408Z
LAST-MODIFIED:20240516T142408Z
UID:10600-1716192000-1717174800@www.trapca.org
SUMMARY:Critical Aspects Of Trade Finance
DESCRIPTION:
URL:https://www.trapca.org/event/critical-aspects-of-trade-finance/
LOCATION:Nairobi\, Nairobi\, Kenya
CATEGORIES:Course
ATTACH;FMTTYPE=image/jpeg:https://www.trapca.org/wp-content/uploads/2024/05/Critical-Aspects-of-Trade-Finance-Nairobi-77.jpg
ORGANIZER;CN="ESAMI-trapca":MAILTO:info@trapca.org / admissions@trapca.org / tradefinance@trapca.org
END:VEVENT
BEGIN:VEVENT
DTSTART;TZID=UTC:20240520T080000
DTEND;TZID=UTC:20240531T170000
DTSTAMP:20260422T023015
CREATED:20240509T114120Z
LAST-MODIFIED:20240509T114120Z
UID:10588-1716192000-1717174800@www.trapca.org
SUMMARY:The Mechanics Of Managing Export Credit Agencies (ECAs)
DESCRIPTION:
URL:https://www.trapca.org/event/the-mechanics-of-managing-export-credit-agencies-ecas-2/
LOCATION:Dubai\, Dubai\, United Arab Emirates
CATEGORIES:Course
ATTACH;FMTTYPE=image/jpeg:https://www.trapca.org/wp-content/uploads/2024/05/The-Mechanics-Of-Managing-Export-Credit-Agencies-ECAs.jpg
ORGANIZER;CN="TRAPCA":MAILTO:info@trpaca.org/admissions@trapca.org
END:VEVENT
BEGIN:VEVENT
DTSTART;TZID=UTC:20240506T140000
DTEND;TZID=UTC:20240531T170000
DTSTAMP:20260422T023015
CREATED:20240405T105631Z
LAST-MODIFIED:20240405T105653Z
UID:10549-1715004000-1717174800@www.trapca.org
SUMMARY:Executive Certificate In International Trade Finance
DESCRIPTION:
URL:https://www.trapca.org/event/executive-certificate-in-international-trade-finance/
LOCATION:E-Learning
CATEGORIES:Course
ATTACH;FMTTYPE=image/jpeg:https://www.trapca.org/wp-content/uploads/2024/04/Executive-Certificate-In-International-Trade-Finance.jpg
ORGANIZER;CN="ESAMI-trapca":MAILTO:info@trapca.org / admissions@trapca.org / tradefinance@trapca.org
END:VEVENT
BEGIN:VEVENT
DTSTART;TZID=UTC:20240506T083000
DTEND;TZID=UTC:20240517T160000
DTSTAMP:20260422T023015
CREATED:20240429T074420Z
LAST-MODIFIED:20240429T074420Z
UID:10576-1714984200-1715961600@www.trapca.org
SUMMARY:Understanding trade in services and domestic regulation
DESCRIPTION:
URL:https://www.trapca.org/event/understanding-trade-in-services-and-domestic-regulation/
LOCATION:Arusha\, Arusha\, Tanzania\, United Republic of
CATEGORIES:Course
ATTACH;FMTTYPE=image/jpeg:https://www.trapca.org/wp-content/uploads/2024/04/Understanding-trade-in-services-and-domestic-regulation.jpg
ORGANIZER;CN="ESAMI-trapca":MAILTO:info@trapca.org / admissions@trapca.org / tradefinance@trapca.org
END:VEVENT
BEGIN:VEVENT
DTSTART;TZID=UTC:20240318T080000
DTEND;TZID=UTC:20240329T170000
DTSTAMP:20260422T023015
CREATED:20240117T130531Z
LAST-MODIFIED:20240117T130531Z
UID:10504-1710748800-1711731600@www.trapca.org
SUMMARY:Understanding And Implementing Investment Treaties
DESCRIPTION:
URL:https://www.trapca.org/event/understanding-and-implementing-investment-treaties/
LOCATION:ESAMI-trapca\, ESAMI Road\, Arusha\, Tanzania\, United Republic of
CATEGORIES:Course,Event
ATTACH;FMTTYPE=image/jpeg:https://www.trapca.org/wp-content/uploads/2024/01/Understanding-And-Implementing-Investment-Treaties.jpg
ORGANIZER;CN="ESAMI-trapca":MAILTO:info@trapca.org / admissions@trapca.org / tradefinance@trapca.org
END:VEVENT
BEGIN:VEVENT
DTSTART;TZID=UTC:20240212T080000
DTEND;TZID=UTC:20240322T170000
DTSTAMP:20260422T023015
CREATED:20240109T055409Z
LAST-MODIFIED:20240109T055409Z
UID:10489-1707724800-1711126800@www.trapca.org
SUMMARY:MSc Pre-requisite trade policy and trade law (eLearning)
DESCRIPTION:
URL:https://www.trapca.org/event/msc-pre-requisite-trade-policy-and-trade-law-elearning/
LOCATION:E-Learning
CATEGORIES:Course,Event
ATTACH;FMTTYPE=image/jpeg:https://www.trapca.org/wp-content/uploads/2024/01/Academic-Courses.jpg
ORGANIZER;CN="ESAMI-trapca":MAILTO:info@trapca.org / admissions@trapca.org / tradefinance@trapca.org
END:VEVENT
BEGIN:VEVENT
DTSTART;TZID=UTC:20240212T080000
DTEND;TZID=UTC:20240223T170000
DTSTAMP:20260422T023015
CREATED:20240117T134142Z
LAST-MODIFIED:20240117T134142Z
UID:10507-1707724800-1708707600@www.trapca.org
SUMMARY:Intellectual Property Law And Practice In International Trade
DESCRIPTION:
URL:https://www.trapca.org/event/intellectual-property-law-and-practice-in-international-trade/
LOCATION:Arusha\, Arusha\, Tanzania\, United Republic of
CATEGORIES:Course,Event
ATTACH;FMTTYPE=image/jpeg:https://www.trapca.org/wp-content/uploads/2024/01/Intellectual-Property-Law-And-Practice-In-International-Trade.jpg
ORGANIZER;CN="ESAMI-trapca":MAILTO:info@trapca.org / admissions@trapca.org / tradefinance@trapca.org
END:VEVENT
BEGIN:VEVENT
DTSTART;TZID=UTC:20240122T080000
DTEND;TZID=UTC:20241220T170000
DTSTAMP:20260422T023015
CREATED:20240109T054237Z
LAST-MODIFIED:20240109T054237Z
UID:10479-1705910400-1734714000@www.trapca.org
SUMMARY:2024 Executive Courses
DESCRIPTION:
URL:https://www.trapca.org/event/2024-executive-courses/
CATEGORIES:Course,Event
ATTACH;FMTTYPE=image/jpeg:https://www.trapca.org/wp-content/uploads/2024/01/All-Executive-Courses.jpg
ORGANIZER;CN="TRAPCA":MAILTO:info@trpaca.org/admissions@trapca.org
END:VEVENT
BEGIN:VEVENT
DTSTART;TZID=UTC:20240122T080000
DTEND;TZID=UTC:20240202T170000
DTSTAMP:20260422T023015
CREATED:20240109T055035Z
LAST-MODIFIED:20240109T055035Z
UID:10485-1705910400-1706893200@www.trapca.org
SUMMARY:Negotiations For Trade Finance Instruments
DESCRIPTION:
URL:https://www.trapca.org/event/negotiations-for-trade-finance-instruments/
LOCATION:Naivasha\, Naivasha\, Kenya
CATEGORIES:Course,Event
ATTACH;FMTTYPE=image/jpeg:https://www.trapca.org/wp-content/uploads/2024/01/Negotiations-for-Trade-Finance-Instruments.jpg
ORGANIZER;CN="ESAMI-trapca":MAILTO:info@trapca.org / admissions@trapca.org / tradefinance@trapca.org
END:VEVENT
BEGIN:VEVENT
DTSTART;TZID=UTC:20231204T080000
DTEND;TZID=UTC:20240115T170000
DTSTAMP:20260422T023015
CREATED:20231108T101528Z
LAST-MODIFIED:20231108T101528Z
UID:10285-1701676800-1705338000@www.trapca.org
SUMMARY:Implementing Regional Trade Agreements In Africa
DESCRIPTION:
URL:https://www.trapca.org/event/implementing-regional-trade-agreements-in-africa/
LOCATION:Accra\, Accra\, Ghana
CATEGORIES:Course,Event
ATTACH;FMTTYPE=image/png:https://www.trapca.org/wp-content/uploads/2023/11/Implementing-Regional-Trade-Agreements-In-Africa.png
ORGANIZER;CN="ESAMI-trapca":MAILTO:info@trapca.org / admissions@trapca.org / tradefinance@trapca.org
END:VEVENT
BEGIN:VEVENT
DTSTART;TZID=UTC:20231204T080000
DTEND;TZID=UTC:20231215T170000
DTSTAMP:20260422T023015
CREATED:20231108T100918Z
LAST-MODIFIED:20231108T100918Z
UID:10277-1701676800-1702659600@www.trapca.org
SUMMARY:Negotiation Of Investment Agreements
DESCRIPTION:
URL:https://www.trapca.org/event/negotiation-of-investment-agreements/
LOCATION:Seychelles\, Seychelles\, Seychelles
CATEGORIES:Course,Event
ATTACH;FMTTYPE=image/png:https://www.trapca.org/wp-content/uploads/2023/11/Negotiation-Of-Investment-Agreements.png
ORGANIZER;CN="ESAMI-trapca":MAILTO:info@trapca.org / admissions@trapca.org / tradefinance@trapca.org
END:VEVENT
BEGIN:VEVENT
DTSTART;TZID=UTC:20231204T080000
DTEND;TZID=UTC:20231215T170000
DTSTAMP:20260422T023015
CREATED:20231108T085206Z
LAST-MODIFIED:20231108T085206Z
UID:10260-1701676800-1702659600@www.trapca.org
SUMMARY:Arbitration and dispute settlement for trade
DESCRIPTION:
URL:https://www.trapca.org/event/arbitration-and-dispute-settlement-for-trade/
LOCATION:Seychelles\, Seychelles\, Seychelles
CATEGORIES:Course,Event
ATTACH;FMTTYPE=image/png:https://www.trapca.org/wp-content/uploads/2023/11/Arbitration-And-Dispute-Settlement-For-Trade.png
ORGANIZER;CN="ESAMI-trapca":MAILTO:info@trapca.org / admissions@trapca.org / tradefinance@trapca.org
END:VEVENT
BEGIN:VEVENT
DTSTART;TZID=UTC:20231124T090000
DTEND;TZID=UTC:20231124T100000
DTSTAMP:20260422T023015
CREATED:20231116T121851Z
LAST-MODIFIED:20231116T124517Z
UID:10319-1700816400-1700820000@www.trapca.org
SUMMARY:Invite: Graduation Rehearsal and photoshoot
DESCRIPTION:Attention ESAMI-trapca Global Faculty and Graduands! \nYou are cordially invited to the upcoming ESAMI Graduation Rehearsal and ESAMI-trapca graduation photoshoot on November 24\, 2023\, at the graduation grounds located on Njiro Hill ESAMI. \nThe rehearsal will begin at 9:30 am and will cover all aspects of the graduation ceremony\, including the processional\, recessional\, and presentation of diplomas. \nPlease make every effort to attend the rehearsal as it is an essential part of ensuring a successful and memorable graduation ceremony. \nWe look forward to seeing you there! \n📅 Date: November 24\, 2023\n📍 Venue: Graduation Grounds\, Njiro Hill ESAMI
URL:https://www.trapca.org/event/2023-graduation-invitation/
LOCATION:ESAMI-trapca\, ESAMI Road\, Arusha\, Tanzania\, United Republic of
CATEGORIES:Event
ATTACH;FMTTYPE=image/jpeg:https://www.trapca.org/wp-content/uploads/2023/11/Graduation.jpg
ORGANIZER;CN="ESAMI-trapca":MAILTO:info@trapca.org / admissions@trapca.org / tradefinance@trapca.org
END:VEVENT
BEGIN:VEVENT
DTSTART;TZID=UTC:20231120T080000
DTEND;TZID=UTC:20231201T170000
DTSTAMP:20260422T023015
CREATED:20231108T101155Z
LAST-MODIFIED:20231108T101155Z
UID:10280-1700467200-1701450000@www.trapca.org
SUMMARY:Economic Diplomacy In Trade And Investment
DESCRIPTION:
URL:https://www.trapca.org/event/economic-diplomacy-in-trade-and-investment/
LOCATION:Nairobi\, Nairobi\, Kenya
CATEGORIES:Course,Event
ATTACH;FMTTYPE=image/png:https://www.trapca.org/wp-content/uploads/2023/11/Economic-Diplomacy-In-Trade-And-Investment2.png
ORGANIZER;CN="ESAMI-trapca":MAILTO:info@trapca.org / admissions@trapca.org / tradefinance@trapca.org
END:VEVENT
BEGIN:VEVENT
DTSTART;TZID=UTC:20201130T080000
DTEND;TZID=UTC:20201205T170000
DTSTAMP:20260422T023015
CREATED:20201110T151937Z
LAST-MODIFIED:20201110T151937Z
UID:8109-1606723200-1607187600@www.trapca.org
SUMMARY:Negotiation and Utilization of Trade Defense Instruments in African Regional Economic Integration.
DESCRIPTION:
URL:https://www.trapca.org/event/negotiation-and-utilization-of-trade-defense-instruments-in-african-regional-economic-integration/
LOCATION:Mombasa\, Mombasa\, Kenya
ORGANIZER;CN="TRAPCA":MAILTO:info@trpaca.org/admissions@trapca.org
END:VEVENT
BEGIN:VEVENT
DTSTART;TZID=UTC:20201130T080000
DTEND;TZID=UTC:20201204T170000
DTSTAMP:20260422T023015
CREATED:20201110T152108Z
LAST-MODIFIED:20201110T152108Z
UID:8111-1606723200-1607101200@www.trapca.org
SUMMARY:Critical Aspects of Trade Policy\, Law and Negotiations for Practitioners and Executives
DESCRIPTION:
URL:https://www.trapca.org/event/critical-aspects-of-trade-policy-law-and-negotiations-for-practitioners-and-executives/
LOCATION:Livingstone\, Livingstone\, Zambia
END:VEVENT
BEGIN:VEVENT
DTSTART;TZID=UTC:20201123T080000
DTEND;TZID=UTC:20201127T170000
DTSTAMP:20260422T023015
CREATED:20201110T151759Z
LAST-MODIFIED:20201110T151759Z
UID:8107-1606118400-1606496400@www.trapca.org
SUMMARY:Understanding the Applied Interface of Sectoral International Standards and Trade Facilitation Agreement Measures
DESCRIPTION:
URL:https://www.trapca.org/event/understanding-the-applied-interface-of-sectoral-international-standards-and-trade-facilitation-agreement-measures/
LOCATION:Mombasa\, Mombasa\, Kenya
ORGANIZER;CN="TRAPCA":MAILTO:info@trpaca.org/admissions@trapca.org
END:VEVENT
BEGIN:VEVENT
DTSTART;TZID=UTC:20201123T080000
DTEND;TZID=UTC:20201127T170000
DTSTAMP:20260422T023015
CREATED:20201110T151631Z
LAST-MODIFIED:20201110T151631Z
UID:8104-1606118400-1606496400@www.trapca.org
SUMMARY:Cross-sectoral Dimensions of the AfCFTA and African Trade Regimes: Negotiations and Implementation Issues.
DESCRIPTION:
URL:https://www.trapca.org/event/cross-sectoral-dimensions-of-the-afcfta-and-african-trade-regimes-negotiations-and-implementation-issues/
LOCATION:Mombasa\, Mombasa\, Kenya
ORGANIZER;CN="TRAPCA":MAILTO:info@trpaca.org/admissions@trapca.org
END:VEVENT
END:VCALENDAR