BEGIN:VCALENDAR
VERSION:2.0
PRODID:-//ESAMI-trapca - ECPv6.15.20//NONSGML v1.0//EN
CALSCALE:GREGORIAN
METHOD:PUBLISH
X-ORIGINAL-URL:https://www.trapca.org
X-WR-CALDESC:Events for ESAMI-trapca
REFRESH-INTERVAL;VALUE=DURATION:PT1H
X-Robots-Tag:noindex
X-PUBLISHED-TTL:PT1H
BEGIN:VTIMEZONE
TZID:UTC
BEGIN:STANDARD
TZOFFSETFROM:+0000
TZOFFSETTO:+0000
TZNAME:UTC
DTSTART:20230101T000000
END:STANDARD
END:VTIMEZONE
BEGIN:VEVENT
DTSTART;TZID=UTC:20240226T080000
DTEND;TZID=UTC:20261130T170000
DTSTAMP:20260421T164136
CREATED:20240109T054717Z
LAST-MODIFIED:20240109T054717Z
UID:10482-1708934400-1796058000@www.trapca.org
SUMMARY:Master Of International Trade Finance
DESCRIPTION:
URL:https://www.trapca.org/event/master-of-international-trade-finance/
LOCATION:ESAMI-trapca\, ESAMI Road\, Arusha\, Tanzania\, United Republic of
CATEGORIES:Course,Event
ATTACH;FMTTYPE=image/jpeg:https://www.trapca.org/wp-content/uploads/2024/01/MSc-International-Trade-Finance.jpg
ORGANIZER;CN="TRAPCA":MAILTO:info@trpaca.org/admissions@trapca.org
END:VEVENT
BEGIN:VEVENT
DTSTART;TZID=UTC:20250804T080000
DTEND;TZID=UTC:20250815T170000
DTSTAMP:20260421T164136
CREATED:20250728T121506Z
LAST-MODIFIED:20250728T121726Z
UID:11296-1754294400-1755277200@www.trapca.org
SUMMARY:Competition Policy and Law in Intra Africa Trade
DESCRIPTION:
URL:https://www.trapca.org/event/competition-policy-and-law-in-intra-africa-trade/
LOCATION:ESAMI-trapca\, ESAMI Road\, Arusha\, Tanzania\, United Republic of
CATEGORIES:Course,Event
ATTACH;FMTTYPE=image/jpeg:https://www.trapca.org/wp-content/uploads/2025/07/Competition-Policy-and-Law-in-intra-Africa-Trade.jpg
ORGANIZER;CN="ESAMI-trapca":MAILTO:info@trapca.org / admissions@trapca.org / tradefinance@trapca.org
END:VEVENT
BEGIN:VEVENT
DTSTART;TZID=UTC:20250804T080000
DTEND;TZID=UTC:20250815T170000
DTSTAMP:20260421T164136
CREATED:20250728T122018Z
LAST-MODIFIED:20250728T122018Z
UID:11300-1754294400-1755277200@www.trapca.org
SUMMARY:Leveraging Green trade policies for Sustainability and climate adaptation and mitigation
DESCRIPTION:
URL:https://www.trapca.org/event/leveraging-green-trade-policies-for-sustainability-and-climate-adaptation-and-mitigation/
LOCATION:ESAMI-trapca\, ESAMI Road\, Arusha\, Tanzania\, United Republic of
CATEGORIES:Course,Event
ATTACH;FMTTYPE=image/jpeg:https://www.trapca.org/wp-content/uploads/2025/07/Leveraging-Green-Trade-Policies-for-Sustainability-and-Climate-Neutrality.jpg
ORGANIZER;CN="ESAMI-trapca":MAILTO:info@trapca.org / admissions@trapca.org / tradefinance@trapca.org
END:VEVENT
END:VCALENDAR