BEGIN:VCALENDAR
VERSION:2.0
PRODID:-//ESAMI-trapca - ECPv6.15.20//NONSGML v1.0//EN
CALSCALE:GREGORIAN
METHOD:PUBLISH
X-WR-CALNAME:ESAMI-trapca
X-ORIGINAL-URL:https://www.trapca.org
X-WR-CALDESC:Events for ESAMI-trapca
REFRESH-INTERVAL;VALUE=DURATION:PT1H
X-Robots-Tag:noindex
X-PUBLISHED-TTL:PT1H
BEGIN:VTIMEZONE
TZID:UTC
BEGIN:STANDARD
TZOFFSETFROM:+0000
TZOFFSETTO:+0000
TZNAME:UTC
DTSTART:20220101T000000
END:STANDARD
END:VTIMEZONE
BEGIN:VEVENT
DTSTART;TZID=UTC:20231120T080000
DTEND;TZID=UTC:20231201T170000
DTSTAMP:20260422T020643
CREATED:20231108T101155Z
LAST-MODIFIED:20231108T101155Z
UID:10280-1700467200-1701450000@www.trapca.org
SUMMARY:Economic Diplomacy In Trade And Investment
DESCRIPTION:
URL:https://www.trapca.org/event/economic-diplomacy-in-trade-and-investment/
LOCATION:Nairobi\, Nairobi\, Kenya
CATEGORIES:Course,Event
ATTACH;FMTTYPE=image/png:https://www.trapca.org/wp-content/uploads/2023/11/Economic-Diplomacy-In-Trade-And-Investment2.png
ORGANIZER;CN="ESAMI-trapca":MAILTO:info@trapca.org / admissions@trapca.org / tradefinance@trapca.org
END:VEVENT
END:VCALENDAR